Package: systemPipeTools Version: 1.15.0 Command: rm -rf systemPipeTools.buildbin-libdir && mkdir systemPipeTools.buildbin-libdir && /Users/biocbuild/BBS/utils/build-universal.sh systemPipeTools_1.15.0.tar.gz /Library/Frameworks/R.framework/Resources/bin/R systemPipeTools.buildbin-libdir StartedAt: 2025-02-12 22:38:11 -0500 (Wed, 12 Feb 2025) EndedAt: 2025-02-12 22:38:23 -0500 (Wed, 12 Feb 2025) EllapsedTime: 11.3 seconds RetCode: 0 Status: OK PackageFile: systemPipeTools_1.15.0.tgz PackageFileSize: 1.036 MiB