Package: systemPipeTools Version: 1.15.0 Command: /Library/Frameworks/R.framework/Resources/bin/R CMD check --install=check:systemPipeTools.install-out.txt --library=/Library/Frameworks/R.framework/Resources/library --no-vignettes --timings systemPipeTools_1.15.0.tar.gz StartedAt: 2025-02-10 00:02:43 -0500 (Mon, 10 Feb 2025) EndedAt: 2025-02-10 00:07:38 -0500 (Mon, 10 Feb 2025) EllapsedTime: 295.2 seconds RetCode: 0 Status: WARNINGS CheckDir: systemPipeTools.Rcheck Warnings: 1