Package: systemPipeTools Version: 1.15.0 Command: /Library/Frameworks/R.framework/Resources/bin/R CMD INSTALL systemPipeTools StartedAt: 2025-02-12 15:40:09 -0500 (Wed, 12 Feb 2025) EndedAt: 2025-02-12 15:40:43 -0500 (Wed, 12 Feb 2025) EllapsedTime: 33.8 seconds RetCode: 0 Status: OK