Package: systemPipeTools Version: 1.15.0 Command: /home/biocbuild/bbs-3.21-bioc/R/bin/R CMD check --install=check:systemPipeTools.install-out.txt --library=/home/biocbuild/bbs-3.21-bioc/R/site-library --timings systemPipeTools_1.15.0.tar.gz StartedAt: 2025-02-13 03:15:37 -0500 (Thu, 13 Feb 2025) EndedAt: 2025-02-13 03:20:20 -0500 (Thu, 13 Feb 2025) EllapsedTime: 282.4 seconds RetCode: 0 Status: WARNINGS CheckDir: systemPipeTools.Rcheck Warnings: 1