Package: systemPipeTools Version: 1.15.0 Command: chmod a+r systemPipeTools -R && E:\biocbuild\bbs-3.21-bioc\R\bin\R.exe CMD build --keep-empty-dirs --no-resave-data systemPipeTools StartedAt: 2025-02-12 22:08:51 -0500 (Wed, 12 Feb 2025) EndedAt: 2025-02-12 22:10:53 -0500 (Wed, 12 Feb 2025) EllapsedTime: 121.7 seconds RetCode: 0 Status: OK PackageFile: systemPipeTools_1.15.0.tar.gz PackageFileSize: 546.6 KiB