Package: systemPipeTools Version: 1.15.0 Command: E:\biocbuild\bbs-3.21-bioc\R\bin\R.exe CMD check --no-multiarch --install=check:systemPipeTools.install-out.txt --library=E:\biocbuild\bbs-3.21-bioc\R\library --no-vignettes --timings systemPipeTools_1.15.0.tar.gz StartedAt: 2025-02-13 06:16:12 -0500 (Thu, 13 Feb 2025) EndedAt: 2025-02-13 06:21:36 -0500 (Thu, 13 Feb 2025) EllapsedTime: 323.4 seconds RetCode: 0 Status: WARNINGS CheckDir: systemPipeTools.Rcheck Warnings: 1