Package: tLOH Version: 1.15.0 Command: /Library/Frameworks/R.framework/Resources/bin/R CMD build --keep-empty-dirs --no-resave-data tLOH StartedAt: 2025-02-09 17:49:06 -0500 (Sun, 09 Feb 2025) EndedAt: 2025-02-09 17:49:36 -0500 (Sun, 09 Feb 2025) EllapsedTime: 29.4 seconds RetCode: 0 Status: OK PackageFile: tLOH_1.15.0.tar.gz PackageFileSize: 2.446 MiB