Package: tLOH Version: 1.15.0 Command: /Library/Frameworks/R.framework/Resources/bin/R CMD check --install=check:tLOH.install-out.txt --library=/Library/Frameworks/R.framework/Resources/library --no-vignettes --timings tLOH_1.15.0.tar.gz StartedAt: 2025-02-10 00:08:14 -0500 (Mon, 10 Feb 2025) EndedAt: 2025-02-10 00:19:47 -0500 (Mon, 10 Feb 2025) EllapsedTime: 693.9 seconds RetCode: 0 Status: OK CheckDir: tLOH.Rcheck Warnings: 0