Package: tLOH Version: 1.15.0 Command: /home/biocbuild/bbs-3.21-bioc/R/bin/R CMD build --keep-empty-dirs --no-resave-data tLOH StartedAt: 2025-02-09 19:37:04 -0500 (Sun, 09 Feb 2025) EndedAt: 2025-02-09 19:38:16 -0500 (Sun, 09 Feb 2025) EllapsedTime: 72.1 seconds RetCode: 0 Status: OK PackageFile: tLOH_1.15.0.tar.gz PackageFileSize: 2.263 MiB