Package: tLOH Version: 1.15.0 Command: /home/biocbuild/bbs-3.21-bioc/R/bin/R CMD check --install=check:tLOH.install-out.txt --library=/home/biocbuild/bbs-3.21-bioc/R/site-library --timings tLOH_1.15.0.tar.gz StartedAt: 2025-02-10 03:24:29 -0500 (Mon, 10 Feb 2025) EndedAt: 2025-02-10 03:35:23 -0500 (Mon, 10 Feb 2025) EllapsedTime: 653.9 seconds RetCode: 0 Status: OK CheckDir: tLOH.Rcheck Warnings: 0