Package: tLOH Version: 1.15.0 Command: rm -rf tLOH.buildbin-libdir && mkdir tLOH.buildbin-libdir && E:\biocbuild\bbs-3.21-bioc\R\bin\R.exe CMD INSTALL --build --library=tLOH.buildbin-libdir tLOH_1.15.0.tar.gz StartedAt: 2025-02-10 08:52:52 -0500 (Mon, 10 Feb 2025) EndedAt: 2025-02-10 08:53:42 -0500 (Mon, 10 Feb 2025) EllapsedTime: 50.1 seconds RetCode: 0 Status: OK PackageFile: tLOH_1.15.0.zip PackageFileSize: 1.801 MiB