Package: tLOH Version: 1.15.0 Command: E:\biocbuild\bbs-3.21-bioc\R\bin\R.exe CMD check --no-multiarch --install=check:tLOH.install-out.txt --library=E:\biocbuild\bbs-3.21-bioc\R\library --no-vignettes --timings tLOH_1.15.0.tar.gz StartedAt: 2025-02-10 06:13:28 -0500 (Mon, 10 Feb 2025) EndedAt: 2025-02-10 06:26:43 -0500 (Mon, 10 Feb 2025) EllapsedTime: 795.1 seconds RetCode: 0 Status: OK CheckDir: tLOH.Rcheck Warnings: 0