Package: tRanslatome Version: 1.45.0 Command: rm -rf tRanslatome.buildbin-libdir && mkdir tRanslatome.buildbin-libdir && /Users/biocbuild/BBS/utils/build-universal.sh tRanslatome_1.45.0.tar.gz /Library/Frameworks/R.framework/Resources/bin/R tRanslatome.buildbin-libdir StartedAt: 2025-02-09 22:33:54 -0500 (Sun, 09 Feb 2025) EndedAt: 2025-02-09 22:34:12 -0500 (Sun, 09 Feb 2025) EllapsedTime: 18.4 seconds RetCode: 0 Status: OK PackageFile: tRanslatome_1.45.0.tgz PackageFileSize: 1.317 MiB