Package: tRanslatome Version: 1.45.0 Command: /Library/Frameworks/R.framework/Resources/bin/R CMD build --keep-empty-dirs --no-resave-data tRanslatome StartedAt: 2025-02-09 17:50:10 -0500 (Sun, 09 Feb 2025) EndedAt: 2025-02-09 17:50:47 -0500 (Sun, 09 Feb 2025) EllapsedTime: 36.5 seconds RetCode: 0 Status: OK PackageFile: tRanslatome_1.45.0.tar.gz PackageFileSize: 936.2 KiB