Package: tRanslatome Version: 1.45.0 Command: /Library/Frameworks/R.framework/Resources/bin/R CMD check --install=check:tRanslatome.install-out.txt --library=/Library/Frameworks/R.framework/Resources/library --no-vignettes --timings tRanslatome_1.45.0.tar.gz StartedAt: 2025-02-09 21:48:33 -0500 (Sun, 09 Feb 2025) EndedAt: 2025-02-09 21:50:28 -0500 (Sun, 09 Feb 2025) EllapsedTime: 115.4 seconds RetCode: 0 Status: OK CheckDir: tRanslatome.Rcheck Warnings: 0