Package: tRanslatome Version: 1.45.0 Command: /home/biocbuild/R/R/bin/R CMD build --keep-empty-dirs --no-resave-data tRanslatome StartedAt: 2025-01-28 03:00:10 -0000 (Tue, 28 Jan 2025) EndedAt: 2025-01-28 03:02:05 -0000 (Tue, 28 Jan 2025) EllapsedTime: 115.1 seconds RetCode: 0 Status: OK PackageFile: tRanslatome_1.45.0.tar.gz PackageFileSize: 929.1 KiB