Package: tRanslatome Version: 1.45.0 Command: rm -rf tRanslatome.buildbin-libdir && mkdir tRanslatome.buildbin-libdir && /Users/biocbuild/BBS/utils/build-universal.sh tRanslatome_1.45.0.tar.gz /Library/Frameworks/R.framework/Resources/bin/R tRanslatome.buildbin-libdir StartedAt: 2025-02-10 01:21:09 -0500 (Mon, 10 Feb 2025) EndedAt: 2025-02-10 01:22:12 -0500 (Mon, 10 Feb 2025) EllapsedTime: 63.0 seconds RetCode: 0 Status: OK PackageFile: tRanslatome_1.45.0.tgz PackageFileSize: 1.314 MiB