Package: tRanslatome Version: 1.45.0 Command: /Library/Frameworks/R.framework/Resources/bin/R CMD check --install=check:tRanslatome.install-out.txt --library=/Library/Frameworks/R.framework/Resources/library --no-vignettes --timings tRanslatome_1.45.0.tar.gz StartedAt: 2025-02-10 00:11:42 -0500 (Mon, 10 Feb 2025) EndedAt: 2025-02-10 00:17:30 -0500 (Mon, 10 Feb 2025) EllapsedTime: 348.6 seconds RetCode: 0 Status: OK CheckDir: tRanslatome.Rcheck Warnings: 0