Package: tRanslatome Version: 1.45.0 Command: /Library/Frameworks/R.framework/Resources/bin/R CMD INSTALL tRanslatome StartedAt: 2025-02-09 15:36:03 -0500 (Sun, 09 Feb 2025) EndedAt: 2025-02-09 15:37:01 -0500 (Sun, 09 Feb 2025) EllapsedTime: 57.6 seconds RetCode: 0 Status: OK