Package: tRanslatome Version: 1.45.0 Command: /home/biocbuild/bbs-3.21-bioc/R/bin/R CMD build --keep-empty-dirs --no-resave-data tRanslatome StartedAt: 2025-02-09 19:38:56 -0500 (Sun, 09 Feb 2025) EndedAt: 2025-02-09 19:40:20 -0500 (Sun, 09 Feb 2025) EllapsedTime: 84.3 seconds RetCode: 0 Status: OK PackageFile: tRanslatome_1.45.0.tar.gz PackageFileSize: 936.2 KiB