Package: tRanslatome Version: 1.45.0 Command: /home/biocbuild/bbs-3.21-bioc/R/bin/R CMD check --install=check:tRanslatome.install-out.txt --library=/home/biocbuild/bbs-3.21-bioc/R/site-library --timings tRanslatome_1.45.0.tar.gz StartedAt: 2025-02-10 03:28:24 -0500 (Mon, 10 Feb 2025) EndedAt: 2025-02-10 03:34:17 -0500 (Mon, 10 Feb 2025) EllapsedTime: 353.4 seconds RetCode: 0 Status: OK CheckDir: tRanslatome.Rcheck Warnings: 0