Package: tRanslatome Version: 1.45.0 Command: E:\biocbuild\bbs-3.21-bioc\R\bin\R.exe CMD check --no-multiarch --install=check:tRanslatome.install-out.txt --library=E:\biocbuild\bbs-3.21-bioc\R\library --no-vignettes --timings tRanslatome_1.45.0.tar.gz StartedAt: 2025-02-10 06:18:09 -0500 (Mon, 10 Feb 2025) EndedAt: 2025-02-10 06:24:03 -0500 (Mon, 10 Feb 2025) EllapsedTime: 353.8 seconds RetCode: 0 Status: OK CheckDir: tRanslatome.Rcheck Warnings: 0