Package: tadar Version: 1.5.1 Maintainer: Lachlan Baer MaintainerEmail: baerlachlan at gmail.com git_url: https://git.bioconductor.org/packages/tadar git_branch: devel git_last_commit: b6360e4 git_last_commit_date: 2025-01-26 23:01:52 -0500 (Sun, 26 Jan 2025)