Package: tadar Version: 1.5.1 Command: rm -rf tadar.buildbin-libdir && mkdir tadar.buildbin-libdir && /Users/biocbuild/BBS/utils/build-universal.sh tadar_1.5.1.tar.gz /Library/Frameworks/R.framework/Resources/bin/R tadar.buildbin-libdir StartedAt: 2025-02-09 22:33:03 -0500 (Sun, 09 Feb 2025) EndedAt: 2025-02-09 22:33:25 -0500 (Sun, 09 Feb 2025) EllapsedTime: 21.5 seconds RetCode: 0 Status: OK PackageFile: tadar_1.5.1.tgz PackageFileSize: 1.491 MiB