Package: tadar Version: 1.5.1 Command: /Library/Frameworks/R.framework/Resources/bin/R CMD check --install=check:tadar.install-out.txt --library=/Library/Frameworks/R.framework/Resources/library --no-vignettes --timings tadar_1.5.1.tar.gz StartedAt: 2025-02-09 21:41:33 -0500 (Sun, 09 Feb 2025) EndedAt: 2025-02-09 21:44:27 -0500 (Sun, 09 Feb 2025) EllapsedTime: 174.2 seconds RetCode: 0 Status: OK CheckDir: tadar.Rcheck Warnings: 0