Package: tadar Version: 1.5.1 Command: /Library/Frameworks/R.framework/Resources/bin/R CMD INSTALL tadar StartedAt: 2025-02-09 15:17:13 -0500 (Sun, 09 Feb 2025) EndedAt: 2025-02-09 15:17:33 -0500 (Sun, 09 Feb 2025) EllapsedTime: 20.0 seconds RetCode: 0 Status: OK