Package: tadar Version: 1.5.1 Command: /home/biocbuild/R/R/bin/R CMD build --keep-empty-dirs --no-resave-data tadar StartedAt: 2025-01-28 02:51:32 -0000 (Tue, 28 Jan 2025) EndedAt: 2025-01-28 02:53:36 -0000 (Tue, 28 Jan 2025) EllapsedTime: 123.1 seconds RetCode: 0 Status: OK PackageFile: tadar_1.5.1.tar.gz PackageFileSize: 1.517 MiB