Package: tadar Version: 1.5.1 Command: /home/biocbuild/R/R/bin/R CMD check --install=check:tadar.install-out.txt --library=/home/biocbuild/R/R/site-library --no-vignettes --timings tadar_1.5.1.tar.gz StartedAt: 2025-01-28 15:59:19 -0000 (Tue, 28 Jan 2025) EndedAt: 2025-01-28 16:09:49 -0000 (Tue, 28 Jan 2025) EllapsedTime: 629.9 seconds RetCode: 0 Status: WARNINGS CheckDir: tadar.Rcheck Warnings: 5