Package: tadar Version: 1.5.1 Command: /home/biocbuild/R/R/bin/R CMD INSTALL tadar StartedAt: 2025-01-29 20:10:12 -0000 (Wed, 29 Jan 2025) EndedAt: 2025-01-29 20:11:20 -0000 (Wed, 29 Jan 2025) EllapsedTime: 67.8 seconds RetCode: 0 Status: OK