Package: tadar Version: 1.5.1 Command: /home/biocbuild/bbs-3.21-bioc/R/bin/R CMD build --keep-empty-dirs --no-resave-data tadar StartedAt: 2025-02-09 19:33:01 -0500 (Sun, 09 Feb 2025) EndedAt: 2025-02-09 19:34:28 -0500 (Sun, 09 Feb 2025) EllapsedTime: 87.1 seconds RetCode: 0 Status: OK PackageFile: tadar_1.5.1.tar.gz PackageFileSize: 1.687 MiB