Package: tadar Version: 1.5.1 Command: /home/biocbuild/bbs-3.21-bioc/R/bin/R CMD check --install=check:tadar.install-out.txt --library=/home/biocbuild/bbs-3.21-bioc/R/site-library --timings tadar_1.5.1.tar.gz StartedAt: 2025-02-04 03:22:10 -0500 (Tue, 04 Feb 2025) EndedAt: 2025-02-04 03:30:25 -0500 (Tue, 04 Feb 2025) EllapsedTime: 494.7 seconds RetCode: 0 Status: OK CheckDir: tadar.Rcheck Warnings: 0