Package: tadar Version: 1.5.1 Command: /home/biocbuild/bbs-3.21-bioc/R/bin/R CMD INSTALL tadar StartedAt: 2025-02-03 15:55:26 -0500 (Mon, 03 Feb 2025) EndedAt: 2025-02-03 15:56:17 -0500 (Mon, 03 Feb 2025) EllapsedTime: 51.1 seconds RetCode: 0 Status: OK