Package: tadar Version: 1.5.1 Command: rm -rf tadar.buildbin-libdir && mkdir tadar.buildbin-libdir && E:\biocbuild\bbs-3.21-bioc\R\bin\R.exe CMD INSTALL --build --library=tadar.buildbin-libdir tadar_1.5.1.tar.gz StartedAt: 2025-02-10 08:50:31 -0500 (Mon, 10 Feb 2025) EndedAt: 2025-02-10 08:51:43 -0500 (Mon, 10 Feb 2025) EllapsedTime: 71.5 seconds RetCode: 0 Status: OK PackageFile: tadar_1.5.1.zip PackageFileSize: 1.07 MiB