Package: tadar Version: 1.5.1 Command: chmod a+r tadar -R && E:\biocbuild\bbs-3.21-bioc\R\bin\R.exe CMD build --keep-empty-dirs --no-resave-data tadar StartedAt: 2025-02-09 22:01:27 -0500 (Sun, 09 Feb 2025) EndedAt: 2025-02-09 22:03:22 -0500 (Sun, 09 Feb 2025) EllapsedTime: 114.2 seconds RetCode: 0 Status: OK PackageFile: tadar_1.5.1.tar.gz PackageFileSize: 1.325 MiB