Package: target Version: 1.21.0 Command: rm -rf target.buildbin-libdir && mkdir target.buildbin-libdir && /Users/biocbuild/BBS/utils/build-universal.sh target_1.21.0.tar.gz /Library/Frameworks/R.framework/Resources/bin/R target.buildbin-libdir StartedAt: 2025-02-09 22:33:08 -0500 (Sun, 09 Feb 2025) EndedAt: 2025-02-09 22:33:13 -0500 (Sun, 09 Feb 2025) EllapsedTime: 5.1 seconds RetCode: 0 Status: OK PackageFile: target_1.21.0.tgz PackageFileSize: 3.306 MiB