Package: target Version: 1.21.0 Command: /Library/Frameworks/R.framework/Resources/bin/R CMD INSTALL target StartedAt: 2025-02-09 15:25:58 -0500 (Sun, 09 Feb 2025) EndedAt: 2025-02-09 15:26:03 -0500 (Sun, 09 Feb 2025) EllapsedTime: 4.3 seconds RetCode: 0 Status: OK