Package: target Version: 1.21.0 Command: /Library/Frameworks/R.framework/Resources/bin/R CMD INSTALL target StartedAt: 2025-02-09 15:39:18 -0500 (Sun, 09 Feb 2025) EndedAt: 2025-02-09 15:39:33 -0500 (Sun, 09 Feb 2025) EllapsedTime: 15.0 seconds RetCode: 0 Status: OK