Package: target Version: 1.21.0 Command: rm -rf target.buildbin-libdir && mkdir target.buildbin-libdir && E:\biocbuild\bbs-3.21-bioc\R\bin\R.exe CMD INSTALL --build --library=target.buildbin-libdir target_1.21.0.tar.gz StartedAt: 2025-02-10 08:50:38 -0500 (Mon, 10 Feb 2025) EndedAt: 2025-02-10 08:51:03 -0500 (Mon, 10 Feb 2025) EllapsedTime: 25.0 seconds RetCode: 0 Status: OK PackageFile: target_1.21.0.zip PackageFileSize: 3.128 MiB