Package: ternarynet Version: 1.51.0 Command: /Library/Frameworks/R.framework/Resources/bin/R CMD build --keep-empty-dirs --no-resave-data ternarynet StartedAt: 2025-02-12 17:48:34 -0500 (Wed, 12 Feb 2025) EndedAt: 2025-02-12 17:48:36 -0500 (Wed, 12 Feb 2025) EllapsedTime: 2.0 seconds RetCode: 1 Status: ERROR PackageFile: None PackageFileSize: NA