Package: ternarynet Version: 1.51.0 Command: E:\biocbuild\bbs-3.21-bioc\R\bin\R.exe CMD INSTALL ternarynet StartedAt: 2025-02-09 15:36:43 -0500 (Sun, 09 Feb 2025) EndedAt: 2025-02-09 15:37:06 -0500 (Sun, 09 Feb 2025) EllapsedTime: 22.3 seconds RetCode: 1 Status: ERROR