Package: tidyFlowCore Version: 1.1.0 Command: rm -rf tidyFlowCore.buildbin-libdir && mkdir tidyFlowCore.buildbin-libdir && /Users/biocbuild/BBS/utils/build-universal.sh tidyFlowCore_1.1.0.tar.gz /Library/Frameworks/R.framework/Resources/bin/R tidyFlowCore.buildbin-libdir StartedAt: 2025-02-09 22:33:25 -0500 (Sun, 09 Feb 2025) EndedAt: 2025-02-09 22:33:30 -0500 (Sun, 09 Feb 2025) EllapsedTime: 5.1 seconds RetCode: 0 Status: OK PackageFile: tidyFlowCore_1.1.0.tgz PackageFileSize: 923.7 KiB