Package: tidyFlowCore Version: 1.1.0 Command: /Library/Frameworks/R.framework/Resources/bin/R CMD check --install=check:tidyFlowCore.install-out.txt --library=/Library/Frameworks/R.framework/Resources/library --no-vignettes --timings tidyFlowCore_1.1.0.tar.gz StartedAt: 2025-02-09 21:44:11 -0500 (Sun, 09 Feb 2025) EndedAt: 2025-02-09 21:44:45 -0500 (Sun, 09 Feb 2025) EllapsedTime: 34.4 seconds RetCode: 0 Status: OK CheckDir: tidyFlowCore.Rcheck Warnings: 0