Package: tidyFlowCore Version: 1.1.0 Command: /Library/Frameworks/R.framework/Resources/bin/R CMD INSTALL tidyFlowCore StartedAt: 2025-02-03 15:41:56 -0500 (Mon, 03 Feb 2025) EndedAt: 2025-02-03 15:42:00 -0500 (Mon, 03 Feb 2025) EllapsedTime: 3.9 seconds RetCode: 0 Status: OK