Package: tidyFlowCore Version: 1.1.0 Command: /home/biocbuild/R/R/bin/R CMD build --keep-empty-dirs --no-resave-data tidyFlowCore StartedAt: 2025-01-28 02:54:21 -0000 (Tue, 28 Jan 2025) EndedAt: 2025-01-28 02:55:40 -0000 (Tue, 28 Jan 2025) EllapsedTime: 79.0 seconds RetCode: 0 Status: OK PackageFile: tidyFlowCore_1.1.0.tar.gz PackageFileSize: 690.1 KiB