Package: tidyFlowCore Version: 1.1.0 Command: /Library/Frameworks/R.framework/Resources/bin/R CMD build --keep-empty-dirs --no-resave-data tidyFlowCore StartedAt: 2025-02-09 18:42:53 -0500 (Sun, 09 Feb 2025) EndedAt: 2025-02-09 18:43:57 -0500 (Sun, 09 Feb 2025) EllapsedTime: 63.9 seconds RetCode: 0 Status: OK PackageFile: tidyFlowCore_1.1.0.tar.gz PackageFileSize: 776.1 KiB