Package: tidyFlowCore Version: 1.1.0 Command: /home/biocbuild/bbs-3.21-bioc/R/bin/R CMD build --keep-empty-dirs --no-resave-data tidyFlowCore StartedAt: 2025-02-09 19:35:22 -0500 (Sun, 09 Feb 2025) EndedAt: 2025-02-09 19:36:17 -0500 (Sun, 09 Feb 2025) EllapsedTime: 55.0 seconds RetCode: 0 Status: OK PackageFile: tidyFlowCore_1.1.0.tar.gz PackageFileSize: 783.8 KiB