Package: tidyFlowCore Version: 1.1.0 Command: E:\biocbuild\bbs-3.21-bioc\R\bin\R.exe CMD check --no-multiarch --install=check:tidyFlowCore.install-out.txt --library=E:\biocbuild\bbs-3.21-bioc\R\library --no-vignettes --timings tidyFlowCore_1.1.0.tar.gz StartedAt: 2025-02-10 06:09:47 -0500 (Mon, 10 Feb 2025) EndedAt: 2025-02-10 06:12:01 -0500 (Mon, 10 Feb 2025) EllapsedTime: 133.8 seconds RetCode: 0 Status: OK CheckDir: tidyFlowCore.Rcheck Warnings: 0