Package: tidySingleCellExperiment Version: 1.17.0 Command: rm -rf tidySingleCellExperiment.buildbin-libdir && mkdir tidySingleCellExperiment.buildbin-libdir && /Users/biocbuild/BBS/utils/build-universal.sh tidySingleCellExperiment_1.17.0.tar.gz /Library/Frameworks/R.framework/Resources/bin/R tidySingleCellExperiment.buildbin-libdir StartedAt: 2025-02-10 01:20:26 -0500 (Mon, 10 Feb 2025) EndedAt: 2025-02-10 01:21:09 -0500 (Mon, 10 Feb 2025) EllapsedTime: 42.6 seconds RetCode: 0 Status: OK PackageFile: tidySingleCellExperiment_1.17.0.tgz PackageFileSize: 2.123 MiB