Package: tidySingleCellExperiment Version: 1.17.0 Command: /Library/Frameworks/R.framework/Resources/bin/R CMD build --keep-empty-dirs --no-resave-data tidySingleCellExperiment StartedAt: 2025-02-12 18:34:48 -0500 (Wed, 12 Feb 2025) EndedAt: 2025-02-12 18:36:08 -0500 (Wed, 12 Feb 2025) EllapsedTime: 79.9 seconds RetCode: 0 Status: OK PackageFile: tidySingleCellExperiment_1.17.0.tar.gz PackageFileSize: 1.809 MiB