Package: tidySingleCellExperiment Version: 1.17.0 Command: /home/biocbuild/bbs-3.21-bioc/R/bin/R CMD INSTALL tidySingleCellExperiment StartedAt: 2025-02-09 15:19:34 -0500 (Sun, 09 Feb 2025) EndedAt: 2025-02-09 15:20:02 -0500 (Sun, 09 Feb 2025) EllapsedTime: 27.7 seconds RetCode: 0 Status: OK